Package: HiTC Version: 1.44.0 Command: chmod a+r HiTC -R && F:\biocbuild\bbs-3.17-bioc\R\bin\R.exe CMD build --keep-empty-dirs --no-resave-data HiTC StartedAt: 2023-10-15 19:50:27 -0400 (Sun, 15 Oct 2023) EndedAt: 2023-10-15 19:55:31 -0400 (Sun, 15 Oct 2023) EllapsedTime: 304.2 seconds RetCode: 0 Status: OK PackageFile: HiTC_1.44.0.tar.gz PackageFileSize: 3 MiB