Package: HiCDCPlus Version: 1.8.0 Command: /home/biocbuild/bbs-3.17-bioc/R/bin/R CMD check --install=check:HiCDCPlus.install-out.txt --library=/home/biocbuild/bbs-3.17-bioc/R/site-library --timings HiCDCPlus_1.8.0.tar.gz StartedAt: 2023-10-15 22:00:04 -0400 (Sun, 15 Oct 2023) EndedAt: 2023-10-15 22:06:30 -0400 (Sun, 15 Oct 2023) EllapsedTime: 386.0 seconds RetCode: 0 Status: OK CheckDir: HiCDCPlus.Rcheck Warnings: 0