Package: Herper Version: 1.10.1 Command: F:\biocbuild\bbs-3.17-bioc\R\bin\R.exe CMD INSTALL Herper StartedAt: 2023-10-15 15:54:43 -0400 (Sun, 15 Oct 2023) EndedAt: 2023-10-15 15:54:54 -0400 (Sun, 15 Oct 2023) EllapsedTime: 10.8 seconds RetCode: 0 Status: OK