Package: Herper Version: 1.10.1 Command: rm -rf Herper.buildbin-libdir && mkdir Herper.buildbin-libdir && F:\biocbuild\bbs-3.17-bioc\R\bin\R.exe CMD INSTALL --build --library=Herper.buildbin-libdir Herper_1.10.1.tar.gz StartedAt: 2023-10-16 08:55:36 -0400 (Mon, 16 Oct 2023) EndedAt: 2023-10-16 08:55:46 -0400 (Mon, 16 Oct 2023) EllapsedTime: 9.6 seconds RetCode: 0 Status: OK PackageFile: Herper_1.10.1.zip PackageFileSize: 465.6 KiB