Package: Harshlight Version: 1.72.0 Command: /home/biocbuild/bbs-3.17-bioc/R/bin/R CMD check --install=check:Harshlight.install-out.txt --library=/home/biocbuild/bbs-3.17-bioc/R/site-library --timings Harshlight_1.72.0.tar.gz StartedAt: 2023-10-15 21:57:29 -0400 (Sun, 15 Oct 2023) EndedAt: 2023-10-15 21:59:03 -0400 (Sun, 15 Oct 2023) EllapsedTime: 93.9 seconds RetCode: 0 Status: WARNINGS CheckDir: Harshlight.Rcheck Warnings: 1