Package: HMMcopy Version: 1.42.0 Command: chmod a+r HMMcopy -R && F:\biocbuild\bbs-3.17-bioc\R\bin\R.exe CMD build --keep-empty-dirs --no-resave-data HMMcopy StartedAt: 2023-10-15 19:50:42 -0400 (Sun, 15 Oct 2023) EndedAt: 2023-10-15 19:51:08 -0400 (Sun, 15 Oct 2023) EllapsedTime: 26.3 seconds RetCode: 0 Status: OK PackageFile: HMMcopy_1.42.0.tar.gz PackageFileSize: 1.239 MiB