Package: HIPPO Version: 1.12.0 Command: rm -rf HIPPO.buildbin-libdir && mkdir HIPPO.buildbin-libdir && /Users/biocbuild/BBS/utils/build-universal.sh HIPPO_1.12.0.tar.gz /Library/Frameworks/R.framework/Resources/bin/R HIPPO.buildbin-libdir StartedAt: 2023-10-16 09:33:13 -0400 (Mon, 16 Oct 2023) EndedAt: 2023-10-16 09:34:39 -0400 (Mon, 16 Oct 2023) EllapsedTime: 85.1 seconds RetCode: 0 Status: OK PackageFile: HIPPO_1.12.0.tgz PackageFileSize: 987.6 KiB