Package: Guitar Version: 2.16.0 Command: /home/biocbuild/bbs-3.17-bioc/R/bin/R CMD check --install=check:Guitar.install-out.txt --library=/home/biocbuild/bbs-3.17-bioc/R/site-library --timings Guitar_2.16.0.tar.gz StartedAt: 2023-10-15 21:54:33 -0400 (Sun, 15 Oct 2023) EndedAt: 2023-10-15 22:11:30 -0400 (Sun, 15 Oct 2023) EllapsedTime: 1017.0 seconds RetCode: 0 Status: OK CheckDir: Guitar.Rcheck Warnings: 0