Package: GreyListChIP Version: 1.32.1 Command: rm -rf GreyListChIP.buildbin-libdir && mkdir GreyListChIP.buildbin-libdir && /Users/biocbuild/BBS/utils/build-universal.sh GreyListChIP_1.32.1.tar.gz /Library/Frameworks/R.framework/Resources/bin/R GreyListChIP.buildbin-libdir StartedAt: 2023-10-16 09:31:14 -0400 (Mon, 16 Oct 2023) EndedAt: 2023-10-16 09:33:08 -0400 (Mon, 16 Oct 2023) EllapsedTime: 114.3 seconds RetCode: 0 Status: OK PackageFile: GreyListChIP_1.32.1.tgz PackageFileSize: 891.9 KiB