Package: Glimma Version: 2.10.0 Command: /Library/Frameworks/R.framework/Resources/bin/R CMD build --keep-empty-dirs --no-resave-data Glimma StartedAt: 2023-10-15 18:36:56 -0400 (Sun, 15 Oct 2023) EndedAt: 2023-10-15 18:59:06 -0400 (Sun, 15 Oct 2023) EllapsedTime: 1329.6 seconds RetCode: 0 Status: OK PackageFile: Glimma_2.10.0.tar.gz PackageFileSize: 11.35 MiB