Package: GeoTcgaData Version: 2.0.0 Command: /home/biocbuild/bbs-3.17-bioc/R/bin/R CMD check --install=check:GeoTcgaData.install-out.txt --library=/home/biocbuild/bbs-3.17-bioc/R/site-library --timings GeoTcgaData_2.0.0.tar.gz StartedAt: 2023-10-15 21:39:33 -0400 (Sun, 15 Oct 2023) EndedAt: 2023-10-15 21:43:20 -0400 (Sun, 15 Oct 2023) EllapsedTime: 227.6 seconds RetCode: 0 Status: OK CheckDir: GeoTcgaData.Rcheck Warnings: 0