Package: GenomicTuples Version: 1.34.0 Command: /home/biocbuild/bbs-3.17-bioc/R/bin/R CMD INSTALL GenomicTuples StartedAt: 2023-10-15 15:10:58 -0400 (Sun, 15 Oct 2023) EndedAt: 2023-10-15 15:11:29 -0400 (Sun, 15 Oct 2023) EllapsedTime: 31.5 seconds RetCode: 0 Status: OK