Package: GenomicTuples Version: 1.34.0 Command: /home/biocbuild/bbs-3.17-bioc/R/bin/R CMD build --keep-empty-dirs --no-resave-data GenomicTuples StartedAt: 2023-10-15 16:55:34 -0400 (Sun, 15 Oct 2023) EndedAt: 2023-10-15 16:56:16 -0400 (Sun, 15 Oct 2023) EllapsedTime: 41.3 seconds RetCode: 0 Status: OK PackageFile: GenomicTuples_1.34.0.tar.gz PackageFileSize: 302.8 KiB