Package: GenomicFiles Version: 1.36.0 Command: F:\biocbuild\bbs-3.17-bioc\R\bin\R.exe CMD check --no-multiarch --install=check:GenomicFiles.install-out.txt --library=F:\biocbuild\bbs-3.17-bioc\R\library --no-vignettes --timings GenomicFiles_1.36.0.tar.gz StartedAt: 2023-10-16 02:30:09 -0400 (Mon, 16 Oct 2023) EndedAt: 2023-10-16 02:42:19 -0400 (Mon, 16 Oct 2023) EllapsedTime: 730.0 seconds RetCode: 0 Status: WARNINGS CheckDir: GenomicFiles.Rcheck Warnings: 1