Package: GeneticsPed Version: 1.62.1 Command: /home/biocbuild/bbs-3.17-bioc/R/bin/R CMD check --install=check:GeneticsPed.install-out.txt --library=/home/biocbuild/bbs-3.17-bioc/R/site-library --timings GeneticsPed_1.62.1.tar.gz StartedAt: 2023-10-15 21:33:29 -0400 (Sun, 15 Oct 2023) EndedAt: 2023-10-15 21:33:59 -0400 (Sun, 15 Oct 2023) EllapsedTime: 30.0 seconds RetCode: 0 Status: OK CheckDir: GeneticsPed.Rcheck Warnings: 0