Package: GeneSelectMMD Version: 2.44.1 Command: chmod a+r GeneSelectMMD -R && F:\biocbuild\bbs-3.17-bioc\R\bin\R.exe CMD build --keep-empty-dirs --no-resave-data GeneSelectMMD StartedAt: 2023-10-15 19:26:28 -0400 (Sun, 15 Oct 2023) EndedAt: 2023-10-15 19:26:49 -0400 (Sun, 15 Oct 2023) EllapsedTime: 21.0 seconds RetCode: 0 Status: OK PackageFile: GeneSelectMMD_2.44.1.tar.gz PackageFileSize: 312.4 KiB