Package: GeneSelectMMD Version: 2.44.1 Command: /Library/Frameworks/R.framework/Resources/bin/R CMD build --keep-empty-dirs --no-resave-data GeneSelectMMD StartedAt: 2023-10-15 18:30:21 -0400 (Sun, 15 Oct 2023) EndedAt: 2023-10-15 18:31:01 -0400 (Sun, 15 Oct 2023) EllapsedTime: 40.2 seconds RetCode: 0 Status: OK PackageFile: GeneSelectMMD_2.44.1.tar.gz PackageFileSize: 455.1 KiB