Package: GeneRegionScan Version: 1.56.0 Command: F:\biocbuild\bbs-3.17-bioc\R\bin\R.exe CMD check --no-multiarch --install=check:GeneRegionScan.install-out.txt --library=F:\biocbuild\bbs-3.17-bioc\R\library --no-vignettes --timings GeneRegionScan_1.56.0.tar.gz StartedAt: 2023-10-16 02:27:58 -0400 (Mon, 16 Oct 2023) EndedAt: 2023-10-16 02:30:19 -0400 (Mon, 16 Oct 2023) EllapsedTime: 140.4 seconds RetCode: 0 Status: OK CheckDir: GeneRegionScan.Rcheck Warnings: 0