Package: GeneGeneInteR Version: 1.26.0 Command: chmod a+r GeneGeneInteR -R && F:\biocbuild\bbs-3.17-bioc\R\bin\R.exe CMD build --keep-empty-dirs --no-resave-data GeneGeneInteR StartedAt: 2023-10-15 19:25:38 -0400 (Sun, 15 Oct 2023) EndedAt: 2023-10-15 19:26:24 -0400 (Sun, 15 Oct 2023) EllapsedTime: 46.1 seconds RetCode: 0 Status: OK PackageFile: GeneGeneInteR_1.26.0.tar.gz PackageFileSize: 1.004 MiB