Package: GeneGeneInteR Version: 1.26.0 Command: rm -rf GeneGeneInteR.buildbin-libdir && mkdir GeneGeneInteR.buildbin-libdir && /Users/biocbuild/BBS/utils/build-universal.sh GeneGeneInteR_1.26.0.tar.gz /Library/Frameworks/R.framework/Resources/bin/R GeneGeneInteR.buildbin-libdir StartedAt: 2023-10-16 09:27:02 -0400 (Mon, 16 Oct 2023) EndedAt: 2023-10-16 09:28:38 -0400 (Mon, 16 Oct 2023) EllapsedTime: 95.2 seconds RetCode: 0 Status: OK PackageFile: GeneGeneInteR_1.26.0.tgz PackageFileSize: 1.37 MiB