Package: GeneExpressionSignature Version: 1.46.0 Command: /Library/Frameworks/R.framework/Resources/bin/R CMD INSTALL GeneExpressionSignature StartedAt: 2023-10-15 15:08:13 -0400 (Sun, 15 Oct 2023) EndedAt: 2023-10-15 15:08:41 -0400 (Sun, 15 Oct 2023) EllapsedTime: 28.4 seconds RetCode: 0 Status: OK