Package: GeneExpressionSignature Version: 1.46.0 Command: /Library/Frameworks/R.framework/Resources/bin/R CMD build --keep-empty-dirs --no-resave-data GeneExpressionSignature StartedAt: 2023-10-15 18:28:39 -0400 (Sun, 15 Oct 2023) EndedAt: 2023-10-15 18:29:25 -0400 (Sun, 15 Oct 2023) EllapsedTime: 45.1 seconds RetCode: 0 Status: OK PackageFile: GeneExpressionSignature_1.46.0.tar.gz PackageFileSize: 2.544 MiB