Package: GeneBreak Version: 1.30.0 Command: chmod a+r GeneBreak -R && F:\biocbuild\bbs-3.17-bioc\R\bin\R.exe CMD build --keep-empty-dirs --no-resave-data GeneBreak StartedAt: 2023-10-15 19:25:27 -0400 (Sun, 15 Oct 2023) EndedAt: 2023-10-15 19:26:10 -0400 (Sun, 15 Oct 2023) EllapsedTime: 43.1 seconds RetCode: 0 Status: OK PackageFile: GeneBreak_1.30.0.tar.gz PackageFileSize: 4.142 MiB