Package: GeneBreak Version: 1.30.0 Command: rm -rf GeneBreak.buildbin-libdir && mkdir GeneBreak.buildbin-libdir && F:\biocbuild\bbs-3.17-bioc\R\bin\R.exe CMD INSTALL --build --library=GeneBreak.buildbin-libdir GeneBreak_1.30.0.tar.gz StartedAt: 2023-10-16 08:50:22 -0400 (Mon, 16 Oct 2023) EndedAt: 2023-10-16 08:50:52 -0400 (Mon, 16 Oct 2023) EllapsedTime: 29.6 seconds RetCode: 0 Status: OK PackageFile: GeneBreak_1.30.0.zip PackageFileSize: 4.445 MiB