Package: GenVisR Version: 1.32.0 Command: /home/biocbuild/bbs-3.17-bioc/R/bin/R CMD build --keep-empty-dirs --no-resave-data GenVisR StartedAt: 2023-10-15 16:55:40 -0400 (Sun, 15 Oct 2023) EndedAt: 2023-10-15 16:59:27 -0400 (Sun, 15 Oct 2023) EllapsedTime: 226.4 seconds RetCode: 0 Status: OK PackageFile: GenVisR_1.32.0.tar.gz PackageFileSize: 7.643 MiB