Package: GWAS.BAYES Version: 1.10.0 Command: /home/biocbuild/bbs-3.17-bioc/R/bin/R CMD check --install=check:GWAS.BAYES.install-out.txt --library=/home/biocbuild/bbs-3.17-bioc/R/site-library --timings GWAS.BAYES_1.10.0.tar.gz StartedAt: 2023-10-15 21:54:58 -0400 (Sun, 15 Oct 2023) EndedAt: 2023-10-15 21:58:50 -0400 (Sun, 15 Oct 2023) EllapsedTime: 232.4 seconds RetCode: 0 Status: OK CheckDir: GWAS.BAYES.Rcheck Warnings: 0