Package: GUIDEseq Version: 1.30.0 Command: /Library/Frameworks/R.framework/Resources/bin/R CMD INSTALL GUIDEseq StartedAt: 2023-10-15 16:20:13 -0400 (Sun, 15 Oct 2023) EndedAt: 2023-10-15 16:22:47 -0400 (Sun, 15 Oct 2023) EllapsedTime: 153.5 seconds RetCode: 0 Status: OK