Package: GUIDEseq Version: 1.30.0 Command: rm -rf GUIDEseq.buildbin-libdir && mkdir GUIDEseq.buildbin-libdir && /Users/biocbuild/BBS/utils/build-universal.sh GUIDEseq_1.30.0.tar.gz /Library/Frameworks/R.framework/Resources/bin/R GUIDEseq.buildbin-libdir StartedAt: 2023-10-16 09:31:50 -0400 (Mon, 16 Oct 2023) EndedAt: 2023-10-16 09:34:36 -0400 (Mon, 16 Oct 2023) EllapsedTime: 166.7 seconds RetCode: 0 Status: OK PackageFile: GUIDEseq_1.30.0.tgz PackageFileSize: 6.093 MiB