Package: GSEAmining Version: 1.10.0 Command: /Library/Frameworks/R.framework/Resources/bin/R CMD build --keep-empty-dirs --no-resave-data GSEAmining StartedAt: 2023-10-15 18:44:38 -0400 (Sun, 15 Oct 2023) EndedAt: 2023-10-15 18:46:02 -0400 (Sun, 15 Oct 2023) EllapsedTime: 84.0 seconds RetCode: 0 Status: OK PackageFile: GSEAmining_1.10.0.tar.gz PackageFileSize: 2.806 MiB