Package: GSCA Version: 2.30.0 Command: F:\biocbuild\bbs-3.17-bioc\R\bin\R.exe CMD INSTALL GSCA StartedAt: 2023-10-15 16:23:01 -0400 (Sun, 15 Oct 2023) EndedAt: 2023-10-15 16:23:11 -0400 (Sun, 15 Oct 2023) EllapsedTime: 9.8 seconds RetCode: 0 Status: OK