Package: GOsummaries Version: 2.36.0 Command: /Library/Frameworks/R.framework/Resources/bin/R CMD check --install=check:GOsummaries.install-out.txt --library=/Library/Frameworks/R.framework/Resources/library --no-vignettes --timings GOsummaries_2.36.0.tar.gz StartedAt: 2023-06-21 02:37:26 -0400 (Wed, 21 Jun 2023) EndedAt: 2023-06-21 02:39:18 -0400 (Wed, 21 Jun 2023) EllapsedTime: 112.0 seconds RetCode: 0 Status: OK CheckDir: GOsummaries.Rcheck Warnings: 0