Package: GOsummaries Version: 2.36.0 Command: /Library/Frameworks/R.framework/Resources/bin/R CMD build --keep-empty-dirs --no-resave-data GOsummaries StartedAt: 2023-10-15 18:40:21 -0400 (Sun, 15 Oct 2023) EndedAt: 2023-10-15 18:40:59 -0400 (Sun, 15 Oct 2023) EllapsedTime: 37.6 seconds RetCode: 1 Status: ERROR PackageFile: None PackageFileSize: NA