Package: GEOmetadb Version: 1.62.0 Command: /home/biocbuild/bbs-3.17-bioc/R/bin/R CMD build --keep-empty-dirs --no-resave-data GEOmetadb StartedAt: 2023-10-15 16:55:47 -0400 (Sun, 15 Oct 2023) EndedAt: 2023-10-15 16:56:08 -0400 (Sun, 15 Oct 2023) EllapsedTime: 20.5 seconds RetCode: 0 Status: OK PackageFile: GEOmetadb_1.62.0.tar.gz PackageFileSize: 512.9 KiB