Package: GEOfastq Version: 1.8.0 Command: rm -rf GEOfastq.buildbin-libdir && mkdir GEOfastq.buildbin-libdir && F:\biocbuild\bbs-3.17-bioc\R\bin\R.exe CMD INSTALL --build --library=GEOfastq.buildbin-libdir GEOfastq_1.8.0.tar.gz StartedAt: 2023-10-16 08:52:13 -0400 (Mon, 16 Oct 2023) EndedAt: 2023-10-16 08:52:17 -0400 (Mon, 16 Oct 2023) EllapsedTime: 4.2 seconds RetCode: 0 Status: OK PackageFile: GEOfastq_1.8.0.zip PackageFileSize: 40.87 KiB