Package: GENESIS Version: 2.30.0 Command: F:\biocbuild\bbs-3.17-bioc\R\bin\R.exe CMD INSTALL GENESIS StartedAt: 2023-10-15 16:47:12 -0400 (Sun, 15 Oct 2023) EndedAt: 2023-10-15 16:47:51 -0400 (Sun, 15 Oct 2023) EllapsedTime: 39.4 seconds RetCode: 0 Status: OK