Package: GBScleanR Version: 1.4.4 Command: F:\biocbuild\bbs-3.17-bioc\R\bin\R.exe CMD INSTALL GBScleanR StartedAt: 2023-10-15 16:00:15 -0400 (Sun, 15 Oct 2023) EndedAt: 2023-10-15 16:02:09 -0400 (Sun, 15 Oct 2023) EllapsedTime: 113.8 seconds RetCode: 0 Status: OK