Package: GBScleanR Version: 1.4.4 Command: F:\biocbuild\bbs-3.17-bioc\R\bin\R.exe CMD check --no-multiarch --install=check:GBScleanR.install-out.txt --library=F:\biocbuild\bbs-3.17-bioc\R\library --no-vignettes --timings GBScleanR_1.4.4.tar.gz StartedAt: 2023-10-16 02:22:39 -0400 (Mon, 16 Oct 2023) EndedAt: 2023-10-16 02:25:39 -0400 (Mon, 16 Oct 2023) EllapsedTime: 180.5 seconds RetCode: 0 Status: OK CheckDir: GBScleanR.Rcheck Warnings: 0