Package: GBScleanR Version: 1.4.4 Command: chmod a+r GBScleanR -R && F:\biocbuild\bbs-3.17-bioc\R\bin\R.exe CMD build --keep-empty-dirs --no-resave-data GBScleanR StartedAt: 2023-10-15 19:23:28 -0400 (Sun, 15 Oct 2023) EndedAt: 2023-10-15 19:25:36 -0400 (Sun, 15 Oct 2023) EllapsedTime: 127.6 seconds RetCode: 0 Status: OK PackageFile: GBScleanR_1.4.4.tar.gz PackageFileSize: 847.6 KiB