Package: GBScleanR Version: 1.4.4 Command: rm -rf GBScleanR.buildbin-libdir && mkdir GBScleanR.buildbin-libdir && F:\biocbuild\bbs-3.17-bioc\R\bin\R.exe CMD INSTALL --build --library=GBScleanR.buildbin-libdir GBScleanR_1.4.4.tar.gz StartedAt: 2023-10-16 08:49:52 -0400 (Mon, 16 Oct 2023) EndedAt: 2023-10-16 08:51:26 -0400 (Mon, 16 Oct 2023) EllapsedTime: 94.3 seconds RetCode: 0 Status: OK PackageFile: GBScleanR_1.4.4.zip PackageFileSize: 1.745 MiB