Package: GA4GHclient Version: 1.24.0 Command: rm -rf GA4GHclient.buildbin-libdir && mkdir GA4GHclient.buildbin-libdir && /Users/biocbuild/BBS/utils/build-universal.sh GA4GHclient_1.24.0.tar.gz /Library/Frameworks/R.framework/Resources/bin/R GA4GHclient.buildbin-libdir StartedAt: 2023-10-16 09:25:56 -0400 (Mon, 16 Oct 2023) EndedAt: 2023-10-16 09:28:19 -0400 (Mon, 16 Oct 2023) EllapsedTime: 142.9 seconds RetCode: 0 Status: OK PackageFile: GA4GHclient_1.24.0.tgz PackageFileSize: 752.6 KiB