Package: FScanR Version: 1.10.0 Command: /Library/Frameworks/R.framework/Resources/bin/R CMD build --keep-empty-dirs --no-resave-data FScanR StartedAt: 2023-10-15 18:24:47 -0400 (Sun, 15 Oct 2023) EndedAt: 2023-10-15 18:25:03 -0400 (Sun, 15 Oct 2023) EllapsedTime: 16.0 seconds RetCode: 0 Status: OK PackageFile: FScanR_1.10.0.tar.gz PackageFileSize: 918.1 KiB