Package: FGNet Version: 3.34.0 Command: /Library/Frameworks/R.framework/Resources/bin/R CMD INSTALL FGNet StartedAt: 2023-10-15 15:10:43 -0400 (Sun, 15 Oct 2023) EndedAt: 2023-10-15 15:11:11 -0400 (Sun, 15 Oct 2023) EllapsedTime: 28.1 seconds RetCode: 0 Status: OK