Package: FGNet Version: 3.34.0 Command: /Library/Frameworks/R.framework/Resources/bin/R CMD build --keep-empty-dirs --no-resave-data FGNet StartedAt: 2023-10-15 18:19:28 -0400 (Sun, 15 Oct 2023) EndedAt: 2023-10-15 18:20:38 -0400 (Sun, 15 Oct 2023) EllapsedTime: 69.9 seconds RetCode: 0 Status: OK PackageFile: FGNet_3.34.0.tar.gz PackageFileSize: 2.72 MiB