Package: ExiMiR Version: 2.42.0 Command: /home/biocbuild/bbs-3.17-bioc/R/bin/R CMD check --install=check:ExiMiR.install-out.txt --library=/home/biocbuild/bbs-3.17-bioc/R/site-library --timings ExiMiR_2.42.0.tar.gz StartedAt: 2023-10-15 21:14:04 -0400 (Sun, 15 Oct 2023) EndedAt: 2023-10-15 21:16:54 -0400 (Sun, 15 Oct 2023) EllapsedTime: 170.0 seconds RetCode: 0 Status: OK CheckDir: ExiMiR.Rcheck Warnings: 0