Package: ExiMiR Version: 2.42.0 Command: /home/biocbuild/bbs-3.17-bioc/R/bin/R CMD build --keep-empty-dirs --no-resave-data ExiMiR StartedAt: 2023-10-15 16:45:45 -0400 (Sun, 15 Oct 2023) EndedAt: 2023-10-15 16:46:53 -0400 (Sun, 15 Oct 2023) EllapsedTime: 67.9 seconds RetCode: 0 Status: OK PackageFile: ExiMiR_2.42.0.tar.gz PackageFileSize: 1.216 MiB