Package: ExiMiR Version: 2.42.0 Command: /Library/Frameworks/R.framework/Resources/bin/R CMD check --install=check:ExiMiR.install-out.txt --library=/Library/Frameworks/R.framework/Resources/library --no-vignettes --timings ExiMiR_2.42.0.tar.gz StartedAt: 2023-10-16 01:35:00 -0400 (Mon, 16 Oct 2023) EndedAt: 2023-10-16 01:37:23 -0400 (Mon, 16 Oct 2023) EllapsedTime: 143.5 seconds RetCode: 0 Status: OK CheckDir: ExiMiR.Rcheck Warnings: 0