Package: DropletUtils Version: 1.20.0 Command: /home/biocbuild/bbs-3.17-bioc/R/bin/R CMD check --install=check:DropletUtils.install-out.txt --library=/home/biocbuild/bbs-3.17-bioc/R/site-library --timings DropletUtils_1.20.0.tar.gz StartedAt: 2023-10-15 20:58:12 -0400 (Sun, 15 Oct 2023) EndedAt: 2023-10-15 21:04:33 -0400 (Sun, 15 Oct 2023) EllapsedTime: 380.9 seconds RetCode: 0 Status: WARNINGS CheckDir: DropletUtils.Rcheck Warnings: 1