Package: Dino Version: 1.6.0 Command: /Library/Frameworks/R.framework/Resources/bin/R CMD check --install=check:Dino.install-out.txt --library=/Library/Frameworks/R.framework/Resources/library --no-vignettes --timings Dino_1.6.0.tar.gz StartedAt: 2023-10-16 00:59:04 -0400 (Mon, 16 Oct 2023) EndedAt: 2023-10-16 01:14:02 -0400 (Mon, 16 Oct 2023) EllapsedTime: 898.5 seconds RetCode: 0 Status: OK CheckDir: Dino.Rcheck Warnings: 0