Package: DeMixT Version: 1.16.0 Command: /Library/Frameworks/R.framework/Resources/bin/R CMD INSTALL DeMixT StartedAt: 2023-10-15 16:03:25 -0400 (Sun, 15 Oct 2023) EndedAt: 2023-10-15 16:06:28 -0400 (Sun, 15 Oct 2023) EllapsedTime: 183.3 seconds RetCode: 0 Status: OK