Package: DeMixT Version: 1.16.0 Command: /Library/Frameworks/R.framework/Resources/bin/R CMD check --install=check:DeMixT.install-out.txt --library=/Library/Frameworks/R.framework/Resources/library --no-vignettes --timings DeMixT_1.16.0.tar.gz StartedAt: 2023-10-16 00:48:15 -0400 (Mon, 16 Oct 2023) EndedAt: 2023-10-16 01:03:42 -0400 (Mon, 16 Oct 2023) EllapsedTime: 927.7 seconds RetCode: 0 Status: WARNINGS CheckDir: DeMixT.Rcheck Warnings: 2